BEGIN:VCALENDAR
VERSION:2.0
PRODID:-//tandcschool.org//NONSGML kigkonsult.se iCalcreator 2.30.10//
CALSCALE:GREGORIAN
METHOD:PUBLISH
UID:a9dae60f-cf9b-463d-8146-bcae89c2fe7d
X-WR-CALDESC:
X-WR-RELCALID:374698a84efdd9da92e648e03c9f6054
X-WR-TIMEZONE:America/Chicago
BEGIN:VTIMEZONE
TZID:America/Chicago
BEGIN:STANDARD
TZNAME:CST
DTSTART:20231105T020000
TZOFFSETFROM:-0500
TZOFFSETTO:-0600
RDATE:20241103T020000
RDATE:20251102T020000
END:STANDARD
BEGIN:DAYLIGHT
TZNAME:CDT
DTSTART:20240310T020000
TZOFFSETFROM:-0600
TZOFFSETTO:-0500
RDATE:20250309T020000
RDATE:20260308T020000
END:DAYLIGHT
END:VTIMEZONE
BEGIN:VEVENT
UID:6059071c-f5c0-4f1e-b6ad-2c806ef1dc20
DTSTAMP:20260423T163212Z
DESCRIPTION:
DTSTART;TZID=America/Chicago:20241014T050000
DTEND;TZID=America/Chicago:20241014T050001
LOCATION:
SUMMARY:End of First Quarter
END:VEVENT
END:VCALENDAR
