BEGIN:VCALENDAR
VERSION:2.0
PRODID:-//tandcschool.org//NONSGML kigkonsult.se iCalcreator 2.30.10//
CALSCALE:GREGORIAN
METHOD:PUBLISH
UID:363aa4f1-d6b2-4b7f-a1de-a52a3f672282
X-WR-CALDESC:
X-WR-RELCALID:05df580ec8b2a90bbf2a5ac2f8c10436
X-WR-TIMEZONE:America/Chicago
BEGIN:VTIMEZONE
TZID:America/Chicago
BEGIN:STANDARD
TZNAME:CST
DTSTART:20231105T020000
TZOFFSETFROM:-0500
TZOFFSETTO:-0600
RDATE:20241103T020000
RDATE:20251102T020000
END:STANDARD
BEGIN:DAYLIGHT
TZNAME:CDT
DTSTART:20240310T020000
TZOFFSETFROM:-0600
TZOFFSETTO:-0500
RDATE:20250309T020000
RDATE:20260308T020000
END:DAYLIGHT
END:VTIMEZONE
BEGIN:VEVENT
UID:d1bbb93d-0987-4c79-ae51-d30ee162e5e1
DTSTAMP:20260423T163212Z
DESCRIPTION:
DTSTART;TZID=America/Chicago:20241014T150000
DTEND;TZID=America/Chicago:20241014T160000
LOCATION:
SUMMARY:Cheer
END:VEVENT
END:VCALENDAR
