BEGIN:VCALENDAR
VERSION:2.0
PRODID:-//tandcschool.org//NONSGML kigkonsult.se iCalcreator 2.30.10//
CALSCALE:GREGORIAN
METHOD:PUBLISH
UID:3ad6e768-3133-4182-8277-283071c3f74d
X-WR-CALDESC:
X-WR-RELCALID:99c85f271a7ca8b3246e4b3958dafca3
X-WR-TIMEZONE:America/Chicago
BEGIN:VTIMEZONE
TZID:America/Chicago
BEGIN:STANDARD
TZNAME:CST
DTSTART:20231105T020000
TZOFFSETFROM:-0500
TZOFFSETTO:-0600
RDATE:20241103T020000
RDATE:20251102T020000
END:STANDARD
BEGIN:DAYLIGHT
TZNAME:CDT
DTSTART:20240310T020000
TZOFFSETFROM:-0600
TZOFFSETTO:-0500
RDATE:20250309T020000
RDATE:20260308T020000
END:DAYLIGHT
END:VTIMEZONE
BEGIN:VEVENT
UID:8030ff7f-20f7-466f-bd09-b87be2ebd9ea
DTSTAMP:20260423T161931Z
DESCRIPTION:
DTSTART;TZID=America/Chicago:20241011T150000
DTEND;TZID=America/Chicago:20241011T154500
LOCATION:
SUMMARY:NHS
END:VEVENT
END:VCALENDAR
