BEGIN:VCALENDAR
VERSION:2.0
PRODID:-//tandcschool.org//NONSGML kigkonsult.se iCalcreator 2.30.10//
CALSCALE:GREGORIAN
METHOD:PUBLISH
UID:4bb4afea-2056-41d2-be9f-c4ee7e28ed68
X-WR-CALDESC:
X-WR-RELCALID:46632b2aa4e5272dd9e452777ca80aaf
X-WR-TIMEZONE:America/Chicago
BEGIN:VTIMEZONE
TZID:America/Chicago
BEGIN:STANDARD
TZNAME:CST
DTSTART:20231105T020000
TZOFFSETFROM:-0500
TZOFFSETTO:-0600
RDATE:20241103T020000
RDATE:20251102T020000
END:STANDARD
BEGIN:DAYLIGHT
TZNAME:CDT
DTSTART:20240310T020000
TZOFFSETFROM:-0600
TZOFFSETTO:-0500
RDATE:20250309T020000
RDATE:20260308T020000
END:DAYLIGHT
END:VTIMEZONE
BEGIN:VEVENT
UID:f351bb69-4b9f-4432-87bd-5805ceeae681
DTSTAMP:20260423T164739Z
DESCRIPTION:
DTSTART;TZID=America/Chicago:20241011T050000
DTEND;TZID=America/Chicago:20241011T050001
LOCATION:
SUMMARY:Free Dress Day
END:VEVENT
END:VCALENDAR
