BEGIN:VCALENDAR
VERSION:2.0
PRODID:-//tandcschool.org//NONSGML kigkonsult.se iCalcreator 2.30.10//
CALSCALE:GREGORIAN
METHOD:PUBLISH
UID:7b63a783-8e21-4bd8-bc8f-08dc9e0f5503
X-WR-CALDESC:
X-WR-RELCALID:97c8d87a295124303e9814f87da18add
X-WR-TIMEZONE:America/Chicago
BEGIN:VTIMEZONE
TZID:America/Chicago
BEGIN:STANDARD
TZNAME:CST
DTSTART:20231105T020000
TZOFFSETFROM:-0500
TZOFFSETTO:-0600
RDATE:20241103T020000
RDATE:20251102T020000
END:STANDARD
BEGIN:DAYLIGHT
TZNAME:CDT
DTSTART:20240310T020000
TZOFFSETFROM:-0600
TZOFFSETTO:-0500
RDATE:20250309T020000
RDATE:20260308T020000
END:DAYLIGHT
END:VTIMEZONE
BEGIN:VEVENT
UID:0232459c-a4bc-4333-9671-193c764123ba
DTSTAMP:20260423T162205Z
DESCRIPTION:
DTSTART;TZID=America/Chicago:20241011T180000
DTEND;TZID=America/Chicago:20241011T210000
LOCATION:
SUMMARY:Firey Trails Hayride- LS and MS
END:VEVENT
END:VCALENDAR
