BEGIN:VCALENDAR
VERSION:2.0
PRODID:-//tandcschool.org//NONSGML kigkonsult.se iCalcreator 2.30.10//
CALSCALE:GREGORIAN
METHOD:PUBLISH
UID:84b01487-0854-4fc4-884b-71e6e80f67bb
X-WR-CALDESC:
X-WR-RELCALID:bc0a73195112a406ab74dc090f34cecd
X-WR-TIMEZONE:America/Chicago
BEGIN:VTIMEZONE
TZID:America/Chicago
BEGIN:STANDARD
TZNAME:CST
DTSTART:20231105T020000
TZOFFSETFROM:-0500
TZOFFSETTO:-0600
RDATE:20241103T020000
RDATE:20251102T020000
END:STANDARD
BEGIN:DAYLIGHT
TZNAME:CDT
DTSTART:20240310T020000
TZOFFSETFROM:-0600
TZOFFSETTO:-0500
RDATE:20250309T020000
RDATE:20260308T020000
END:DAYLIGHT
END:VTIMEZONE
BEGIN:VEVENT
UID:0f0ce1d1-0f45-4e16-9465-1ab2d18be7d9
DTSTAMP:20260423T162113Z
DESCRIPTION:
DTSTART;TZID=America/Chicago:20241011T150000
DTEND;TZID=America/Chicago:20241011T154500
LOCATION:
SUMMARY:E-Gaming Club A
END:VEVENT
END:VCALENDAR
