BEGIN:VCALENDAR
VERSION:2.0
PRODID:-//tandcschool.org//NONSGML kigkonsult.se iCalcreator 2.30.10//
CALSCALE:GREGORIAN
METHOD:PUBLISH
UID:817330dd-eab2-43d2-a6b2-8d86c4397fcb
X-WR-CALDESC:
X-WR-RELCALID:31544e269663a88afcfd575f74c808c7
X-WR-TIMEZONE:America/Chicago
BEGIN:VTIMEZONE
TZID:America/Chicago
BEGIN:STANDARD
TZNAME:CST
DTSTART:20231105T020000
TZOFFSETFROM:-0500
TZOFFSETTO:-0600
RDATE:20241103T020000
RDATE:20251102T020000
END:STANDARD
BEGIN:DAYLIGHT
TZNAME:CDT
DTSTART:20240310T020000
TZOFFSETFROM:-0600
TZOFFSETTO:-0500
RDATE:20250309T020000
RDATE:20260308T020000
END:DAYLIGHT
END:VTIMEZONE
BEGIN:VEVENT
UID:e9b63340-58f4-4ee5-812d-0f4150bd1ff8
DTSTAMP:20260423T162104Z
DESCRIPTION:
DTSTART;TZID=America/Chicago:20241008T090000
DTEND;TZID=America/Chicago:20241008T100000
LOCATION:
SUMMARY:LS/MS Assembly- Author Amber Moran
END:VEVENT
END:VCALENDAR
