BEGIN:VCALENDAR
VERSION:2.0
PRODID:-//tandcschool.org//NONSGML kigkonsult.se iCalcreator 2.30.10//
CALSCALE:GREGORIAN
METHOD:PUBLISH
UID:88f91f47-f717-466d-91ed-5313ba66cf63
X-WR-CALDESC:
X-WR-RELCALID:9f72df1778a5b2bec56bdee5fe51be57
X-WR-TIMEZONE:America/Chicago
BEGIN:VTIMEZONE
TZID:America/Chicago
BEGIN:STANDARD
TZNAME:CST
DTSTART:20231105T020000
TZOFFSETFROM:-0500
TZOFFSETTO:-0600
RDATE:20241103T020000
RDATE:20251102T020000
END:STANDARD
BEGIN:DAYLIGHT
TZNAME:CDT
DTSTART:20240310T020000
TZOFFSETFROM:-0600
TZOFFSETTO:-0500
RDATE:20250309T020000
RDATE:20260308T020000
END:DAYLIGHT
END:VTIMEZONE
BEGIN:VEVENT
UID:bdab9935-36b8-4b7f-a8d3-cd491e666b4c
DTSTAMP:20260423T162234Z
DESCRIPTION:
DTSTART;TZID=America/Chicago:20241008T152000
DTEND;TZID=America/Chicago:20241008T160000
LOCATION:
SUMMARY:LS Lego Club
END:VEVENT
END:VCALENDAR
