BEGIN:VCALENDAR
VERSION:2.0
PRODID:-//tandcschool.org//NONSGML kigkonsult.se iCalcreator 2.30.10//
CALSCALE:GREGORIAN
METHOD:PUBLISH
UID:62f429fe-96d1-45c7-b2b3-ff2d630d79b6
X-WR-CALDESC:
X-WR-RELCALID:d98e2ca7c456b862447174e2e4b0f20d
X-WR-TIMEZONE:America/Chicago
BEGIN:VTIMEZONE
TZID:America/Chicago
BEGIN:STANDARD
TZNAME:CST
DTSTART:20231105T020000
TZOFFSETFROM:-0500
TZOFFSETTO:-0600
RDATE:20241103T020000
RDATE:20251102T020000
END:STANDARD
BEGIN:DAYLIGHT
TZNAME:CDT
DTSTART:20240310T020000
TZOFFSETFROM:-0600
TZOFFSETTO:-0500
RDATE:20250309T020000
RDATE:20260308T020000
END:DAYLIGHT
END:VTIMEZONE
BEGIN:VEVENT
UID:19f74a33-023a-441f-9926-8bb0fd720aaa
DTSTAMP:20260423T162446Z
DESCRIPTION:
DTSTART;TZID=America/Chicago:20241008T093000
DTEND;TZID=America/Chicago:20241008T134500
LOCATION:
SUMMARY:Biology/Ecology Aquarium
END:VEVENT
END:VCALENDAR
