BEGIN:VCALENDAR
VERSION:2.0
PRODID:-//tandcschool.org//NONSGML kigkonsult.se iCalcreator 2.30.10//
CALSCALE:GREGORIAN
METHOD:PUBLISH
UID:6a90bd33-620a-4881-9bfd-2db86cf9a4f2
X-WR-CALDESC:
X-WR-RELCALID:44a5306334d14e73e3de9bde6928d1c9
X-WR-TIMEZONE:America/Chicago
BEGIN:VTIMEZONE
TZID:America/Chicago
BEGIN:STANDARD
TZNAME:CST
DTSTART:20231105T020000
TZOFFSETFROM:-0500
TZOFFSETTO:-0600
RDATE:20241103T020000
RDATE:20251102T020000
END:STANDARD
BEGIN:DAYLIGHT
TZNAME:CDT
DTSTART:20240310T020000
TZOFFSETFROM:-0600
TZOFFSETTO:-0500
RDATE:20250309T020000
RDATE:20260308T020000
END:DAYLIGHT
END:VTIMEZONE
BEGIN:VEVENT
UID:7c88a381-0efe-49e1-aac2-5358e13d84ac
DTSTAMP:20260423T163632Z
DESCRIPTION:
DTSTART;TZID=America/Chicago:20241008T150000
DTEND;TZID=America/Chicago:20241008T154500
LOCATION:
SUMMARY:HS Lego Club
END:VEVENT
END:VCALENDAR
