BEGIN:VCALENDAR
VERSION:2.0
PRODID:-//tandcschool.org//NONSGML kigkonsult.se iCalcreator 2.30.10//
CALSCALE:GREGORIAN
METHOD:PUBLISH
UID:b0f0b4cf-838f-4fae-8717-7fe0040bfd83
X-WR-CALDESC:
X-WR-RELCALID:7ee2e8493c420805939115253e3db91a
X-WR-TIMEZONE:America/Chicago
BEGIN:VTIMEZONE
TZID:America/Chicago
BEGIN:STANDARD
TZNAME:CST
DTSTART:20231105T020000
TZOFFSETFROM:-0500
TZOFFSETTO:-0600
RDATE:20241103T020000
RDATE:20251102T020000
END:STANDARD
BEGIN:DAYLIGHT
TZNAME:CDT
DTSTART:20240310T020000
TZOFFSETFROM:-0600
TZOFFSETTO:-0500
RDATE:20250309T020000
RDATE:20260308T020000
END:DAYLIGHT
END:VTIMEZONE
BEGIN:VEVENT
UID:69a5def7-e762-41e6-8efe-bb8723a6ebc5
DTSTAMP:20260423T164952Z
DESCRIPTION:
DTSTART;TZID=America/Chicago:20241007T150000
DTEND;TZID=America/Chicago:20241007T160000
LOCATION:
SUMMARY:Cheer
END:VEVENT
END:VCALENDAR
