BEGIN:VCALENDAR
VERSION:2.0
PRODID:-//tandcschool.org//NONSGML kigkonsult.se iCalcreator 2.30.10//
CALSCALE:GREGORIAN
METHOD:PUBLISH
UID:3b3e00d0-b6db-402c-9c6d-71d3cc74a226
X-WR-CALDESC:
X-WR-RELCALID:db72697f2ce4c9a9fcc627ab1402775d
X-WR-TIMEZONE:America/Chicago
BEGIN:VTIMEZONE
TZID:America/Chicago
BEGIN:STANDARD
TZNAME:CST
DTSTART:20231105T020000
TZOFFSETFROM:-0500
TZOFFSETTO:-0600
RDATE:20241103T020000
RDATE:20251102T020000
END:STANDARD
BEGIN:DAYLIGHT
TZNAME:CDT
DTSTART:20240310T020000
TZOFFSETFROM:-0600
TZOFFSETTO:-0500
RDATE:20250309T020000
RDATE:20260308T020000
END:DAYLIGHT
END:VTIMEZONE
BEGIN:VEVENT
UID:cf983f25-291a-4926-9b3f-b871d00bd2af
DTSTAMP:20260423T163023Z
DESCRIPTION:
DTSTART;TZID=America/Chicago:20241004T150000
DTEND;TZID=America/Chicago:20241004T154500
LOCATION:
SUMMARY:E-Gaming Club B
END:VEVENT
END:VCALENDAR
