BEGIN:VCALENDAR
VERSION:2.0
PRODID:-//tandcschool.org//NONSGML kigkonsult.se iCalcreator 2.30.10//
CALSCALE:GREGORIAN
METHOD:PUBLISH
UID:4d203c35-b7a8-4aa3-b54d-cc6cce30d55d
X-WR-CALDESC:
X-WR-RELCALID:a2c19127534045956901c654150fdc04
X-WR-TIMEZONE:America/Chicago
BEGIN:VTIMEZONE
TZID:America/Chicago
BEGIN:STANDARD
TZNAME:CST
DTSTART:20231105T020000
TZOFFSETFROM:-0500
TZOFFSETTO:-0600
RDATE:20241103T020000
RDATE:20251102T020000
END:STANDARD
BEGIN:DAYLIGHT
TZNAME:CDT
DTSTART:20240310T020000
TZOFFSETFROM:-0600
TZOFFSETTO:-0500
RDATE:20250309T020000
RDATE:20260308T020000
END:DAYLIGHT
END:VTIMEZONE
BEGIN:VEVENT
UID:21bbcf48-3a28-49e5-9456-09b398c434f0
DTSTAMP:20260423T163719Z
DESCRIPTION:
DTSTART;TZID=America/Chicago:20241003T150000
DTEND;TZID=America/Chicago:20241003T154500
LOCATION:
SUMMARY:Crochet Club
END:VEVENT
END:VCALENDAR
