BEGIN:VCALENDAR
VERSION:2.0
PRODID:-//tandcschool.org//NONSGML kigkonsult.se iCalcreator 2.30.10//
CALSCALE:GREGORIAN
METHOD:PUBLISH
UID:d0833e27-7de5-4c58-b95f-5574406c7fbb
X-WR-CALDESC:
X-WR-RELCALID:fc1519e906e54f8c019c15169b2d2b91
X-WR-TIMEZONE:America/Chicago
BEGIN:VTIMEZONE
TZID:America/Chicago
BEGIN:STANDARD
TZNAME:CST
DTSTART:20231105T020000
TZOFFSETFROM:-0500
TZOFFSETTO:-0600
RDATE:20241103T020000
RDATE:20251102T020000
END:STANDARD
BEGIN:DAYLIGHT
TZNAME:CDT
DTSTART:20240310T020000
TZOFFSETFROM:-0600
TZOFFSETTO:-0500
RDATE:20250309T020000
RDATE:20260308T020000
END:DAYLIGHT
END:VTIMEZONE
BEGIN:VEVENT
UID:05be9743-0a57-4a58-9460-fe154c846ee0
DTSTAMP:20260423T163023Z
DESCRIPTION:
DTSTART;TZID=America/Chicago:20241003T153000
DTEND;TZID=America/Chicago:20241003T163000
LOCATION:
SUMMARY:LS Cooking
END:VEVENT
END:VCALENDAR
