BEGIN:VCALENDAR
VERSION:2.0
PRODID:-//tandcschool.org//NONSGML kigkonsult.se iCalcreator 2.30.10//
CALSCALE:GREGORIAN
METHOD:PUBLISH
UID:32ad761e-60ba-46fe-a93c-7f68363f6d96
X-WR-CALDESC:
X-WR-RELCALID:df45ec13388dd471ff6717cf5b67c06c
X-WR-TIMEZONE:America/Chicago
BEGIN:VTIMEZONE
TZID:America/Chicago
BEGIN:STANDARD
TZNAME:CST
DTSTART:20231105T020000
TZOFFSETFROM:-0500
TZOFFSETTO:-0600
RDATE:20241103T020000
RDATE:20251102T020000
END:STANDARD
BEGIN:DAYLIGHT
TZNAME:CDT
DTSTART:20240310T020000
TZOFFSETFROM:-0600
TZOFFSETTO:-0500
RDATE:20250309T020000
RDATE:20260308T020000
END:DAYLIGHT
END:VTIMEZONE
BEGIN:VEVENT
UID:740f8039-1445-4e82-b13a-a2644cb6b778
DTSTAMP:20260423T164812Z
DESCRIPTION:
DTSTART;TZID=America/Chicago:20241003T152000
DTEND;TZID=America/Chicago:20241003T160000
LOCATION:
SUMMARY:LS Running Club
END:VEVENT
END:VCALENDAR
