BEGIN:VCALENDAR
VERSION:2.0
PRODID:-//tandcschool.org//NONSGML kigkonsult.se iCalcreator 2.30.10//
CALSCALE:GREGORIAN
METHOD:PUBLISH
UID:e8024f90-d43f-4e86-8ead-cc45390334e6
X-WR-CALDESC:
X-WR-RELCALID:356faafdb087c647fe3c5633533ec8f4
X-WR-TIMEZONE:America/Chicago
BEGIN:VTIMEZONE
TZID:America/Chicago
BEGIN:STANDARD
TZNAME:CST
DTSTART:20231105T020000
TZOFFSETFROM:-0500
TZOFFSETTO:-0600
RDATE:20241103T020000
RDATE:20251102T020000
END:STANDARD
BEGIN:DAYLIGHT
TZNAME:CDT
DTSTART:20240310T020000
TZOFFSETFROM:-0600
TZOFFSETTO:-0500
RDATE:20250309T020000
RDATE:20260308T020000
END:DAYLIGHT
END:VTIMEZONE
BEGIN:VEVENT
UID:83e2d2f7-d118-43c1-9061-5a14bfe8f2f1
DTSTAMP:20260423T163218Z
DESCRIPTION:
DTSTART;TZID=America/Chicago:20241003T150000
DTEND;TZID=America/Chicago:20241003T154500
LOCATION:
SUMMARY:MS Running Club
END:VEVENT
END:VCALENDAR
