BEGIN:VCALENDAR
VERSION:2.0
PRODID:-//tandcschool.org//NONSGML kigkonsult.se iCalcreator 2.30.10//
CALSCALE:GREGORIAN
METHOD:PUBLISH
UID:c5cd73d7-be78-456c-8cd0-911f8dd3d755
X-WR-CALDESC:
X-WR-RELCALID:5fbc0682ad2107d70720cd7523e69870
X-WR-TIMEZONE:America/Chicago
BEGIN:VTIMEZONE
TZID:America/Chicago
BEGIN:STANDARD
TZNAME:CST
DTSTART:20231105T020000
TZOFFSETFROM:-0500
TZOFFSETTO:-0600
RDATE:20241103T020000
RDATE:20251102T020000
END:STANDARD
BEGIN:DAYLIGHT
TZNAME:CDT
DTSTART:20240310T020000
TZOFFSETFROM:-0600
TZOFFSETTO:-0500
RDATE:20250309T020000
RDATE:20260308T020000
END:DAYLIGHT
END:VTIMEZONE
BEGIN:VEVENT
UID:25e05f47-11e5-4256-9ae0-536e971ef87d
DTSTAMP:20260423T164541Z
DESCRIPTION:
DTSTART;TZID=America/Chicago:20241002T150000
DTEND;TZID=America/Chicago:20241002T154500
LOCATION:
SUMMARY:HS Art Club
END:VEVENT
END:VCALENDAR
