BEGIN:VCALENDAR
VERSION:2.0
PRODID:-//tandcschool.org//NONSGML kigkonsult.se iCalcreator 2.30.10//
CALSCALE:GREGORIAN
METHOD:PUBLISH
UID:5f7ee731-b41c-4e1c-82e4-5efd1c705054
X-WR-CALDESC:
X-WR-RELCALID:15374659d97353758ce0c89e135cf018
X-WR-TIMEZONE:America/Chicago
BEGIN:VTIMEZONE
TZID:America/Chicago
BEGIN:STANDARD
TZNAME:CST
DTSTART:20231105T020000
TZOFFSETFROM:-0500
TZOFFSETTO:-0600
RDATE:20241103T020000
RDATE:20251102T020000
END:STANDARD
BEGIN:DAYLIGHT
TZNAME:CDT
DTSTART:20240310T020000
TZOFFSETFROM:-0600
TZOFFSETTO:-0500
RDATE:20250309T020000
RDATE:20260308T020000
END:DAYLIGHT
END:VTIMEZONE
BEGIN:VEVENT
UID:7265bf96-c659-4f2b-8ce4-e27fe233dcba
DTSTAMP:20260423T162235Z
DESCRIPTION:
DTSTART;TZID=America/Chicago:20241001T151500
DTEND;TZID=America/Chicago:20241001T161500
LOCATION:
SUMMARY:US Cooking
END:VEVENT
END:VCALENDAR
