BEGIN:VCALENDAR
VERSION:2.0
PRODID:-//tandcschool.org//NONSGML kigkonsult.se iCalcreator 2.30.10//
CALSCALE:GREGORIAN
METHOD:PUBLISH
UID:6ed8c636-8971-4667-b635-d205ef2f8902
X-WR-CALDESC:
X-WR-RELCALID:021f28193aa59cc3b84276a53c356b7e
X-WR-TIMEZONE:America/Chicago
BEGIN:VTIMEZONE
TZID:America/Chicago
BEGIN:STANDARD
TZNAME:CST
DTSTART:20231105T020000
TZOFFSETFROM:-0500
TZOFFSETTO:-0600
RDATE:20241103T020000
RDATE:20251102T020000
END:STANDARD
BEGIN:DAYLIGHT
TZNAME:CDT
DTSTART:20240310T020000
TZOFFSETFROM:-0600
TZOFFSETTO:-0500
RDATE:20250309T020000
RDATE:20260308T020000
END:DAYLIGHT
END:VTIMEZONE
BEGIN:VEVENT
UID:526f5c18-f475-4dbb-b759-e4d6085c07bb
DTSTAMP:20260423T163919Z
DESCRIPTION:
DTSTART;TZID=America/Chicago:20241001T150000
DTEND;TZID=America/Chicago:20241001T154500
LOCATION:
SUMMARY:HS Running Club
END:VEVENT
END:VCALENDAR
