BEGIN:VCALENDAR
VERSION:2.0
PRODID:-//tandcschool.org//NONSGML kigkonsult.se iCalcreator 2.30.10//
CALSCALE:GREGORIAN
METHOD:PUBLISH
UID:2baadf16-e538-44ac-8cf1-5f3ba0a6ba1e
X-WR-CALDESC:
X-WR-RELCALID:60b887192b4d34fbd691ff1cd0262edf
X-WR-TIMEZONE:America/Chicago
BEGIN:VTIMEZONE
TZID:America/Chicago
BEGIN:STANDARD
TZNAME:CST
DTSTART:20231105T020000
TZOFFSETFROM:-0500
TZOFFSETTO:-0600
RDATE:20241103T020000
RDATE:20251102T020000
END:STANDARD
BEGIN:DAYLIGHT
TZNAME:CDT
DTSTART:20240310T020000
TZOFFSETFROM:-0600
TZOFFSETTO:-0500
RDATE:20250309T020000
RDATE:20260308T020000
END:DAYLIGHT
END:VTIMEZONE
BEGIN:VEVENT
UID:272a3778-8fd2-42c4-8c4a-cb1cf432dc78
DTSTAMP:20260423T180034Z
DESCRIPTION:
DTSTART;TZID=America/Chicago:20240930T150000
DTEND;TZID=America/Chicago:20240930T154500
LOCATION:
SUMMARY:MS Lego Club
END:VEVENT
END:VCALENDAR
