BEGIN:VCALENDAR
VERSION:2.0
PRODID:-//tandcschool.org//NONSGML kigkonsult.se iCalcreator 2.30.10//
CALSCALE:GREGORIAN
METHOD:PUBLISH
UID:607c3527-e7f7-4ea6-a6cb-dac06c923db9
X-WR-CALDESC:
X-WR-RELCALID:9feb7b23c939042935673181e7931ee0
X-WR-TIMEZONE:America/Chicago
BEGIN:VTIMEZONE
TZID:America/Chicago
BEGIN:STANDARD
TZNAME:CST
DTSTART:20231105T020000
TZOFFSETFROM:-0500
TZOFFSETTO:-0600
RDATE:20241103T020000
RDATE:20251102T020000
END:STANDARD
BEGIN:DAYLIGHT
TZNAME:CDT
DTSTART:20240310T020000
TZOFFSETFROM:-0600
TZOFFSETTO:-0500
RDATE:20250309T020000
RDATE:20260308T020000
END:DAYLIGHT
END:VTIMEZONE
BEGIN:VEVENT
UID:3baf7f4d-dc18-46e4-b068-3557c32e2c77
DTSTAMP:20260423T175957Z
DESCRIPTION:
DTSTART;TZID=America/Chicago:20240930T150000
DTEND;TZID=America/Chicago:20240930T154500
LOCATION:
SUMMARY:HS Chess Club
END:VEVENT
END:VCALENDAR
