BEGIN:VCALENDAR
VERSION:2.0
PRODID:-//tandcschool.org//NONSGML kigkonsult.se iCalcreator 2.30.10//
CALSCALE:GREGORIAN
METHOD:PUBLISH
UID:66ec0a67-e9c9-41d3-b3e9-8d9ae15060fd
X-WR-CALDESC:LS dismissed@12PM\nUS dismissed@12:20PM\nNo Aftercare
X-WR-RELCALID:86d4b7f8a2e6792d855d69bb9f6602c4
X-WR-TIMEZONE:America/Chicago
BEGIN:VTIMEZONE
TZID:America/Chicago
BEGIN:STANDARD
TZNAME:CST
DTSTART:20231105T020000
TZOFFSETFROM:-0500
TZOFFSETTO:-0600
RDATE:20241103T020000
RDATE:20251102T020000
END:STANDARD
BEGIN:DAYLIGHT
TZNAME:CDT
DTSTART:20240310T020000
TZOFFSETFROM:-0600
TZOFFSETTO:-0500
RDATE:20250309T020000
RDATE:20260308T020000
END:DAYLIGHT
END:VTIMEZONE
BEGIN:VEVENT
UID:dff52566-2123-4e7d-9ed9-5961948b60c5
DTSTAMP:20260423T175501Z
DESCRIPTION:LS dismissed@12PM\nUS dismissed@12:20PM\nNo Aftercare
DTSTART;TZID=America/Chicago:20240927T050000
DTEND;TZID=America/Chicago:20240927T050001
LOCATION:
SUMMARY:Half Day
END:VEVENT
END:VCALENDAR
