BEGIN:VCALENDAR
VERSION:2.0
PRODID:-//tandcschool.org//NONSGML kigkonsult.se iCalcreator 2.30.10//
CALSCALE:GREGORIAN
METHOD:PUBLISH
UID:c7ff3d85-6369-4d17-bdb3-0bb46f0ad92b
X-WR-CALDESC:Tulsa Tech Presentation for any Senior\, Junior\, or Sophomore
  who is interested in attending Tech. This presentation will be at 10 am.
X-WR-RELCALID:23e7b1f9deac76ba207299503c855994
X-WR-TIMEZONE:America/Chicago
BEGIN:VTIMEZONE
TZID:America/Chicago
BEGIN:STANDARD
TZNAME:CST
DTSTART:20231105T020000
TZOFFSETFROM:-0500
TZOFFSETTO:-0600
RDATE:20241103T020000
RDATE:20251102T020000
END:STANDARD
BEGIN:DAYLIGHT
TZNAME:CDT
DTSTART:20240310T020000
TZOFFSETFROM:-0600
TZOFFSETTO:-0500
RDATE:20250309T020000
RDATE:20260308T020000
END:DAYLIGHT
END:VTIMEZONE
BEGIN:VEVENT
UID:2d119d3c-1041-4c6f-ad93-e0fcc2949a7d
DTSTAMP:20260423T175617Z
DESCRIPTION:Tulsa Tech Presentation for any Senior\, Junior\, or Sophomore 
 who is interested in attending Tech. This presentation will be at 10 am.
DTSTART;TZID=America/Chicago:20240926T100000
DTEND;TZID=America/Chicago:20240926T110000
LOCATION:
SUMMARY:Tulsa Tech Presentation
END:VEVENT
END:VCALENDAR
