BEGIN:VCALENDAR
VERSION:2.0
PRODID:-//tandcschool.org//NONSGML kigkonsult.se iCalcreator 2.30.10//
CALSCALE:GREGORIAN
METHOD:PUBLISH
UID:962532cc-d293-405d-84dd-fda99e7598ba
X-WR-CALDESC:
X-WR-RELCALID:a02d002ae0349dba29aea2908dc57196
X-WR-TIMEZONE:America/Chicago
BEGIN:VTIMEZONE
TZID:America/Chicago
BEGIN:STANDARD
TZNAME:CST
DTSTART:20231105T020000
TZOFFSETFROM:-0500
TZOFFSETTO:-0600
RDATE:20241103T020000
RDATE:20251102T020000
END:STANDARD
BEGIN:DAYLIGHT
TZNAME:CDT
DTSTART:20240310T020000
TZOFFSETFROM:-0600
TZOFFSETTO:-0500
RDATE:20250309T020000
RDATE:20260308T020000
END:DAYLIGHT
END:VTIMEZONE
BEGIN:VEVENT
UID:2739548d-a513-4c59-880c-4db206807a57
DTSTAMP:20260423T175945Z
DESCRIPTION:
DTSTART;TZID=America/Chicago:20240926T151500
DTEND;TZID=America/Chicago:20240926T160000
LOCATION:
SUMMARY:Band
END:VEVENT
END:VCALENDAR
