BEGIN:VCALENDAR
VERSION:2.0
PRODID:-//tandcschool.org//NONSGML kigkonsult.se iCalcreator 2.30.10//
CALSCALE:GREGORIAN
METHOD:PUBLISH
UID:aab9b447-0ce8-4994-ba76-c1f2eee39275
X-WR-CALDESC:Josten’s will be here to meet with our Seniors\, Juniors\, and
  Sophomores. \nSeniors- 1 pm \nJuniors and Sophomores- 1:30 pm \n
X-WR-RELCALID:cd041a6cd1b666c8d1fdb0690bcc2009
X-WR-TIMEZONE:America/Chicago
BEGIN:VTIMEZONE
TZID:America/Chicago
BEGIN:STANDARD
TZNAME:CST
DTSTART:20231105T020000
TZOFFSETFROM:-0500
TZOFFSETTO:-0600
RDATE:20241103T020000
RDATE:20251102T020000
END:STANDARD
BEGIN:DAYLIGHT
TZNAME:CDT
DTSTART:20240310T020000
TZOFFSETFROM:-0600
TZOFFSETTO:-0500
RDATE:20250309T020000
RDATE:20260308T020000
END:DAYLIGHT
END:VTIMEZONE
BEGIN:VEVENT
UID:a12f5371-e080-49f3-948f-df69b88a1e35
DTSTAMP:20260423T175622Z
DESCRIPTION:Josten’s will be here to meet with our Seniors\, Juniors\, and 
 Sophomores. \nSeniors- 1 pm \nJuniors and Sophomores- 1:30 pm \n
DTSTART;TZID=America/Chicago:20240925T130000
DTEND;TZID=America/Chicago:20240925T140000
LOCATION:
SUMMARY:Jostens Presentation
END:VEVENT
END:VCALENDAR
