BEGIN:VCALENDAR
VERSION:2.0
PRODID:-//tandcschool.org//NONSGML kigkonsult.se iCalcreator 2.30.10//
CALSCALE:GREGORIAN
METHOD:PUBLISH
UID:d2f0a1c6-be51-4aea-9396-092ac8208fd9
X-WR-CALDESC:
X-WR-RELCALID:021da0ed63cc8921799ee1ff71dc47a1
X-WR-TIMEZONE:America/Chicago
BEGIN:VTIMEZONE
TZID:America/Chicago
BEGIN:STANDARD
TZNAME:CST
DTSTART:20231105T020000
TZOFFSETFROM:-0500
TZOFFSETTO:-0600
RDATE:20241103T020000
RDATE:20251102T020000
END:STANDARD
BEGIN:DAYLIGHT
TZNAME:CDT
DTSTART:20240310T020000
TZOFFSETFROM:-0600
TZOFFSETTO:-0500
RDATE:20250309T020000
RDATE:20260308T020000
END:DAYLIGHT
END:VTIMEZONE
BEGIN:VEVENT
UID:4a5b0cf1-32c3-48e9-bcc8-b25d77c8dde4
DTSTAMP:20260423T180530Z
DESCRIPTION:
DTSTART;TZID=America/Chicago:20240925T152000
DTEND;TZID=America/Chicago:20240925T160000
LOCATION:
SUMMARY:Production Club
END:VEVENT
END:VCALENDAR
