BEGIN:VCALENDAR
VERSION:2.0
PRODID:-//tandcschool.org//NONSGML kigkonsult.se iCalcreator 2.30.10//
CALSCALE:GREGORIAN
METHOD:PUBLISH
UID:979816b5-3f59-4dec-9411-780c6b740443
X-WR-CALDESC:
X-WR-RELCALID:e0fb85fc69843863be7b5163e2c5aefb
X-WR-TIMEZONE:America/Chicago
BEGIN:VTIMEZONE
TZID:America/Chicago
BEGIN:STANDARD
TZNAME:CST
DTSTART:20231105T020000
TZOFFSETFROM:-0500
TZOFFSETTO:-0600
RDATE:20241103T020000
RDATE:20251102T020000
END:STANDARD
BEGIN:DAYLIGHT
TZNAME:CDT
DTSTART:20240310T020000
TZOFFSETFROM:-0600
TZOFFSETTO:-0500
RDATE:20250309T020000
RDATE:20260308T020000
END:DAYLIGHT
END:VTIMEZONE
BEGIN:VEVENT
UID:fb8af866-4196-4812-a8c3-4b8bd953e131
DTSTAMP:20260423T180033Z
DESCRIPTION:
DTSTART;TZID=America/Chicago:20240925T150000
DTEND;TZID=America/Chicago:20240925T154500
LOCATION:
SUMMARY:MS Art Club
END:VEVENT
END:VCALENDAR
