BEGIN:VCALENDAR
VERSION:2.0
PRODID:-//tandcschool.org//NONSGML kigkonsult.se iCalcreator 2.30.10//
CALSCALE:GREGORIAN
METHOD:PUBLISH
UID:0821830f-a3d0-450a-803e-12510cf68eaf
X-WR-CALDESC:
X-WR-RELCALID:67c66cc0886744d797ca00048e7637c7
X-WR-TIMEZONE:America/Chicago
BEGIN:VTIMEZONE
TZID:America/Chicago
BEGIN:STANDARD
TZNAME:CST
DTSTART:20231105T020000
TZOFFSETFROM:-0500
TZOFFSETTO:-0600
RDATE:20241103T020000
RDATE:20251102T020000
END:STANDARD
BEGIN:DAYLIGHT
TZNAME:CDT
DTSTART:20240310T020000
TZOFFSETFROM:-0600
TZOFFSETTO:-0500
RDATE:20250309T020000
RDATE:20260308T020000
END:DAYLIGHT
END:VTIMEZONE
BEGIN:VEVENT
UID:a916afe3-3513-419b-8ba6-5f73dcbd8dce
DTSTAMP:20260423T175500Z
DESCRIPTION:
DTSTART;TZID=America/Chicago:20240924T050000
DTEND;TZID=America/Chicago:20240924T050001
LOCATION:
SUMMARY:Vision Screen Day
END:VEVENT
END:VCALENDAR
