BEGIN:VCALENDAR
VERSION:2.0
PRODID:-//tandcschool.org//NONSGML kigkonsult.se iCalcreator 2.30.10//
CALSCALE:GREGORIAN
METHOD:PUBLISH
UID:fc7686e5-16ac-46ee-85dc-8e3ace14392d
X-WR-CALDESC:
X-WR-RELCALID:ec33dffdc56a8e01904f7ec41332dd44
X-WR-TIMEZONE:America/Chicago
BEGIN:VTIMEZONE
TZID:America/Chicago
BEGIN:STANDARD
TZNAME:CST
DTSTART:20231105T020000
TZOFFSETFROM:-0500
TZOFFSETTO:-0600
RDATE:20241103T020000
RDATE:20251102T020000
END:STANDARD
BEGIN:DAYLIGHT
TZNAME:CDT
DTSTART:20240310T020000
TZOFFSETFROM:-0600
TZOFFSETTO:-0500
RDATE:20250309T020000
RDATE:20260308T020000
END:DAYLIGHT
END:VTIMEZONE
BEGIN:VEVENT
UID:73f2d86a-416d-4f3b-89d6-6b7a98c7dcb9
DTSTAMP:20260423T175832Z
DESCRIPTION:
DTSTART;TZID=America/Chicago:20240924T153000
DTEND;TZID=America/Chicago:20240924T164500
LOCATION:
SUMMARY:US Cooking
END:VEVENT
END:VCALENDAR
