BEGIN:VCALENDAR
VERSION:2.0
PRODID:-//tandcschool.org//NONSGML kigkonsult.se iCalcreator 2.30.10//
CALSCALE:GREGORIAN
METHOD:PUBLISH
UID:024c8d00-628b-4160-955a-d18f886d3a99
X-WR-CALDESC:
X-WR-RELCALID:bb9e95f4f1c6493c7eb30053e6113d4e
X-WR-TIMEZONE:America/Chicago
BEGIN:VTIMEZONE
TZID:America/Chicago
BEGIN:STANDARD
TZNAME:CST
DTSTART:20231105T020000
TZOFFSETFROM:-0500
TZOFFSETTO:-0600
RDATE:20241103T020000
RDATE:20251102T020000
END:STANDARD
BEGIN:DAYLIGHT
TZNAME:CDT
DTSTART:20240310T020000
TZOFFSETFROM:-0600
TZOFFSETTO:-0500
RDATE:20250309T020000
RDATE:20260308T020000
END:DAYLIGHT
END:VTIMEZONE
BEGIN:VEVENT
UID:02001f1d-bac9-4015-979a-d8c3e643639e
DTSTAMP:20260423T180351Z
DESCRIPTION:
DTSTART;TZID=America/Chicago:20240924T152000
DTEND;TZID=America/Chicago:20240924T160000
LOCATION:
SUMMARY:LS Lego Club
END:VEVENT
END:VCALENDAR
