BEGIN:VCALENDAR
VERSION:2.0
PRODID:-//tandcschool.org//NONSGML kigkonsult.se iCalcreator 2.30.10//
CALSCALE:GREGORIAN
METHOD:PUBLISH
UID:d96978ba-5e6b-447b-84ae-7be958c433d7
X-WR-CALDESC:
X-WR-RELCALID:49cc1b58a1d31efb22bc071a9661284f
X-WR-TIMEZONE:America/Chicago
BEGIN:VTIMEZONE
TZID:America/Chicago
BEGIN:STANDARD
TZNAME:CST
DTSTART:20231105T020000
TZOFFSETFROM:-0500
TZOFFSETTO:-0600
RDATE:20241103T020000
RDATE:20251102T020000
END:STANDARD
BEGIN:DAYLIGHT
TZNAME:CDT
DTSTART:20240310T020000
TZOFFSETFROM:-0600
TZOFFSETTO:-0500
RDATE:20250309T020000
RDATE:20260308T020000
END:DAYLIGHT
END:VTIMEZONE
BEGIN:VEVENT
UID:d96530c6-06d3-4200-944f-cab2d837eb4d
DTSTAMP:20260423T180530Z
DESCRIPTION:
DTSTART;TZID=America/Chicago:20240924T150000
DTEND;TZID=America/Chicago:20240924T154500
LOCATION:
SUMMARY:HS Lego Club
END:VEVENT
END:VCALENDAR
