BEGIN:VCALENDAR
VERSION:2.0
PRODID:-//tandcschool.org//NONSGML kigkonsult.se iCalcreator 2.30.10//
CALSCALE:GREGORIAN
METHOD:PUBLISH
UID:1cc9f5e1-9130-4dda-a0a2-64a66daa0e73
X-WR-CALDESC:
X-WR-RELCALID:9a2db83c0a286b4378317191d53be0f0
X-WR-TIMEZONE:America/Chicago
BEGIN:VTIMEZONE
TZID:America/Chicago
BEGIN:STANDARD
TZNAME:CST
DTSTART:20231105T020000
TZOFFSETFROM:-0500
TZOFFSETTO:-0600
RDATE:20241103T020000
RDATE:20251102T020000
END:STANDARD
BEGIN:DAYLIGHT
TZNAME:CDT
DTSTART:20240310T020000
TZOFFSETFROM:-0600
TZOFFSETTO:-0500
RDATE:20250309T020000
RDATE:20260308T020000
END:DAYLIGHT
END:VTIMEZONE
BEGIN:VEVENT
UID:78484729-cc23-49d0-80fa-02ee2dd19925
DTSTAMP:20260423T175755Z
DESCRIPTION:
DTSTART;TZID=America/Chicago:20240923T152000
DTEND;TZID=America/Chicago:20240923T160000
LOCATION:
SUMMARY:LS Art Group A
END:VEVENT
END:VCALENDAR
