BEGIN:VCALENDAR
VERSION:2.0
PRODID:-//tandcschool.org//NONSGML kigkonsult.se iCalcreator 2.30.10//
CALSCALE:GREGORIAN
METHOD:PUBLISH
UID:e7c3e67b-aa7b-4412-b9fb-ddc44fa9f224
X-WR-CALDESC:
X-WR-RELCALID:be4cb949eda6357f9f66deca261deaa3
X-WR-TIMEZONE:America/Chicago
BEGIN:VTIMEZONE
TZID:America/Chicago
BEGIN:STANDARD
TZNAME:CST
DTSTART:20231105T020000
TZOFFSETFROM:-0500
TZOFFSETTO:-0600
RDATE:20241103T020000
RDATE:20251102T020000
END:STANDARD
BEGIN:DAYLIGHT
TZNAME:CDT
DTSTART:20240310T020000
TZOFFSETFROM:-0600
TZOFFSETTO:-0500
RDATE:20250309T020000
RDATE:20260308T020000
END:DAYLIGHT
END:VTIMEZONE
BEGIN:VEVENT
UID:72c1f15c-8e43-4206-b3c0-5cefd9e938ed
DTSTAMP:20260423T180206Z
DESCRIPTION:
DTSTART;TZID=America/Chicago:20240923T150000
DTEND;TZID=America/Chicago:20240923T154500
LOCATION:
SUMMARY:MS Lego Club
END:VEVENT
END:VCALENDAR
