BEGIN:VCALENDAR
VERSION:2.0
PRODID:-//tandcschool.org//NONSGML kigkonsult.se iCalcreator 2.30.10//
CALSCALE:GREGORIAN
METHOD:PUBLISH
UID:8405de94-a883-4fe2-abce-855124fbb293
X-WR-CALDESC:
X-WR-RELCALID:7b7584ca1a6a962c04b31da603612733
X-WR-TIMEZONE:America/Chicago
BEGIN:VTIMEZONE
TZID:America/Chicago
BEGIN:STANDARD
TZNAME:CST
DTSTART:20231105T020000
TZOFFSETFROM:-0500
TZOFFSETTO:-0600
RDATE:20241103T020000
RDATE:20251102T020000
END:STANDARD
BEGIN:DAYLIGHT
TZNAME:CDT
DTSTART:20240310T020000
TZOFFSETFROM:-0600
TZOFFSETTO:-0500
RDATE:20250309T020000
RDATE:20260308T020000
END:DAYLIGHT
END:VTIMEZONE
BEGIN:VEVENT
UID:e6b4345b-f0af-48ae-be45-0992041dc6a1
DTSTAMP:20260423T180233Z
DESCRIPTION:
DTSTART;TZID=America/Chicago:20240923T150000
DTEND;TZID=America/Chicago:20240923T154500
LOCATION:
SUMMARY:HS Chess Club
END:VEVENT
END:VCALENDAR
