BEGIN:VCALENDAR
VERSION:2.0
PRODID:-//tandcschool.org//NONSGML kigkonsult.se iCalcreator 2.30.10//
CALSCALE:GREGORIAN
METHOD:PUBLISH
UID:3e76354b-53f7-4e69-8cba-60508de481e4
X-WR-CALDESC:
X-WR-RELCALID:221a1e19ce984ffb7f197e777ecc62d7
X-WR-TIMEZONE:America/Chicago
BEGIN:VTIMEZONE
TZID:America/Chicago
BEGIN:STANDARD
TZNAME:CST
DTSTART:20231105T020000
TZOFFSETFROM:-0500
TZOFFSETTO:-0600
RDATE:20241103T020000
RDATE:20251102T020000
END:STANDARD
BEGIN:DAYLIGHT
TZNAME:CDT
DTSTART:20240310T020000
TZOFFSETFROM:-0600
TZOFFSETTO:-0500
RDATE:20250309T020000
RDATE:20260308T020000
END:DAYLIGHT
END:VTIMEZONE
BEGIN:VEVENT
UID:7d6ccde9-102b-4b5e-817a-f8320431812a
DTSTAMP:20260423T175622Z
DESCRIPTION:
DTSTART;TZID=America/Chicago:20240920T050000
DTEND;TZID=America/Chicago:20240920T050001
LOCATION:
SUMMARY:Fast Food Friday
END:VEVENT
END:VCALENDAR
