BEGIN:VCALENDAR
VERSION:2.0
PRODID:-//tandcschool.org//NONSGML kigkonsult.se iCalcreator 2.30.10//
CALSCALE:GREGORIAN
METHOD:PUBLISH
UID:fe1e22ef-d366-4a4d-8b71-b648b6791ffd
X-WR-CALDESC:
X-WR-RELCALID:7117fe2cec11460af53a3b82d34986ac
X-WR-TIMEZONE:America/Chicago
BEGIN:VTIMEZONE
TZID:America/Chicago
BEGIN:STANDARD
TZNAME:CST
DTSTART:20231105T020000
TZOFFSETFROM:-0500
TZOFFSETTO:-0600
RDATE:20241103T020000
RDATE:20251102T020000
END:STANDARD
BEGIN:DAYLIGHT
TZNAME:CDT
DTSTART:20240310T020000
TZOFFSETFROM:-0600
TZOFFSETTO:-0500
RDATE:20250309T020000
RDATE:20260308T020000
END:DAYLIGHT
END:VTIMEZONE
BEGIN:VEVENT
UID:0801c145-64e0-47c3-a8f7-bac8fd2c46ba
DTSTAMP:20260423T180222Z
DESCRIPTION:
DTSTART;TZID=America/Chicago:20240920T150000
DTEND;TZID=America/Chicago:20240920T154500
LOCATION:
SUMMARY:Gaming Club A
END:VEVENT
END:VCALENDAR
