BEGIN:VCALENDAR
VERSION:2.0
PRODID:-//tandcschool.org//NONSGML kigkonsult.se iCalcreator 2.30.10//
CALSCALE:GREGORIAN
METHOD:PUBLISH
UID:c885b231-4a5f-40db-a11f-caa5edbf15de
X-WR-CALDESC:
X-WR-RELCALID:42a153e66b6d591acaaed671a8dd60b0
X-WR-TIMEZONE:America/Chicago
BEGIN:VTIMEZONE
TZID:America/Chicago
BEGIN:STANDARD
TZNAME:CST
DTSTART:20231105T020000
TZOFFSETFROM:-0500
TZOFFSETTO:-0600
RDATE:20241103T020000
RDATE:20251102T020000
END:STANDARD
BEGIN:DAYLIGHT
TZNAME:CDT
DTSTART:20240310T020000
TZOFFSETFROM:-0600
TZOFFSETTO:-0500
RDATE:20250309T020000
RDATE:20260308T020000
END:DAYLIGHT
END:VTIMEZONE
BEGIN:VEVENT
UID:01fd6ad6-ba98-4b40-b2ae-08512bd7ddf2
DTSTAMP:20260423T180546Z
DESCRIPTION:
DTSTART;TZID=America/Chicago:20240920T150000
DTEND;TZID=America/Chicago:20240920T154500
LOCATION:
SUMMARY:Astronomy Club
END:VEVENT
END:VCALENDAR
