BEGIN:VCALENDAR
VERSION:2.0
PRODID:-//tandcschool.org//NONSGML kigkonsult.se iCalcreator 2.30.10//
CALSCALE:GREGORIAN
METHOD:PUBLISH
UID:176f863d-578d-4b25-ab79-2bb92de39bb1
X-WR-CALDESC:
X-WR-RELCALID:fe9f4ef7f91ef7d286062442995bcd79
X-WR-TIMEZONE:America/Chicago
BEGIN:VTIMEZONE
TZID:America/Chicago
BEGIN:STANDARD
TZNAME:CST
DTSTART:20231105T020000
TZOFFSETFROM:-0500
TZOFFSETTO:-0600
RDATE:20241103T020000
RDATE:20251102T020000
END:STANDARD
BEGIN:DAYLIGHT
TZNAME:CDT
DTSTART:20240310T020000
TZOFFSETFROM:-0600
TZOFFSETTO:-0500
RDATE:20250309T020000
RDATE:20260308T020000
END:DAYLIGHT
END:VTIMEZONE
BEGIN:VEVENT
UID:05e2db67-3bbf-4c32-ae7e-a780a78d39c8
DTSTAMP:20260423T180115Z
DESCRIPTION:
DTSTART;TZID=America/Chicago:20240919T150000
DTEND;TZID=America/Chicago:20240919T154500
LOCATION:
SUMMARY:Crochet Club
END:VEVENT
END:VCALENDAR
