BEGIN:VCALENDAR
VERSION:2.0
PRODID:-//tandcschool.org//NONSGML kigkonsult.se iCalcreator 2.30.10//
CALSCALE:GREGORIAN
METHOD:PUBLISH
UID:274e294f-493a-48d5-ba8c-687cb68b07ef
X-WR-CALDESC:
X-WR-RELCALID:b5d8b0cbd8c0b5c208aea018576658a8
X-WR-TIMEZONE:America/Chicago
BEGIN:VTIMEZONE
TZID:America/Chicago
BEGIN:STANDARD
TZNAME:CST
DTSTART:20231105T020000
TZOFFSETFROM:-0500
TZOFFSETTO:-0600
RDATE:20241103T020000
RDATE:20251102T020000
END:STANDARD
BEGIN:DAYLIGHT
TZNAME:CDT
DTSTART:20240310T020000
TZOFFSETFROM:-0600
TZOFFSETTO:-0500
RDATE:20250309T020000
RDATE:20260308T020000
END:DAYLIGHT
END:VTIMEZONE
BEGIN:VEVENT
UID:5e94b67a-b5bf-4fde-9955-c73f5dd6ec95
DTSTAMP:20260423T180339Z
DESCRIPTION:
DTSTART;TZID=America/Chicago:20240917T152000
DTEND;TZID=America/Chicago:20240917T160000
LOCATION:
SUMMARY:LS Lego Club
END:VEVENT
END:VCALENDAR
