BEGIN:VCALENDAR
VERSION:2.0
PRODID:-//tandcschool.org//NONSGML kigkonsult.se iCalcreator 2.30.10//
CALSCALE:GREGORIAN
METHOD:PUBLISH
UID:230c9512-ea0e-4cc2-94a3-54c9e380a0eb
X-WR-CALDESC:
X-WR-RELCALID:697f8cd71d20fde247ede2eb72c38573
X-WR-TIMEZONE:America/Chicago
BEGIN:VTIMEZONE
TZID:America/Chicago
BEGIN:STANDARD
TZNAME:CST
DTSTART:20231105T020000
TZOFFSETFROM:-0500
TZOFFSETTO:-0600
RDATE:20241103T020000
RDATE:20251102T020000
END:STANDARD
BEGIN:DAYLIGHT
TZNAME:CDT
DTSTART:20240310T020000
TZOFFSETFROM:-0600
TZOFFSETTO:-0500
RDATE:20250309T020000
RDATE:20260308T020000
END:DAYLIGHT
END:VTIMEZONE
BEGIN:VEVENT
UID:16ac1b6e-19a1-4c29-ba81-5a12b6be39af
DTSTAMP:20260423T175825Z
DESCRIPTION:
DTSTART;TZID=America/Chicago:20240916T152000
DTEND;TZID=America/Chicago:20240916T160000
LOCATION:
SUMMARY:LS Art Group B
END:VEVENT
END:VCALENDAR
