BEGIN:VCALENDAR
VERSION:2.0
PRODID:-//tandcschool.org//NONSGML kigkonsult.se iCalcreator 2.30.10//
CALSCALE:GREGORIAN
METHOD:PUBLISH
UID:bba72ca5-c903-4429-b6d2-7a66b11f9f09
X-WR-CALDESC:
X-WR-RELCALID:21ee81a766ed8de2c239e19c9ddfa265
X-WR-TIMEZONE:America/Chicago
BEGIN:VTIMEZONE
TZID:America/Chicago
BEGIN:STANDARD
TZNAME:CST
DTSTART:20231105T020000
TZOFFSETFROM:-0500
TZOFFSETTO:-0600
RDATE:20241103T020000
RDATE:20251102T020000
END:STANDARD
BEGIN:DAYLIGHT
TZNAME:CDT
DTSTART:20240310T020000
TZOFFSETFROM:-0600
TZOFFSETTO:-0500
RDATE:20250309T020000
RDATE:20260308T020000
END:DAYLIGHT
END:VTIMEZONE
BEGIN:VEVENT
UID:44384da5-f619-4947-95ee-7987e3f37d22
DTSTAMP:20260423T175956Z
DESCRIPTION:
DTSTART;TZID=America/Chicago:20240916T150000
DTEND;TZID=America/Chicago:20240916T154500
LOCATION:
SUMMARY:MS Lego Club
END:VEVENT
END:VCALENDAR
