BEGIN:VCALENDAR
VERSION:2.0
PRODID:-//tandcschool.org//NONSGML kigkonsult.se iCalcreator 2.30.10//
CALSCALE:GREGORIAN
METHOD:PUBLISH
UID:12a071f2-80de-4eb9-ab74-9566dc07e8cb
X-WR-CALDESC:
X-WR-RELCALID:71715f34b2f42916e771bece21bc06c8
X-WR-TIMEZONE:America/Chicago
BEGIN:VTIMEZONE
TZID:America/Chicago
BEGIN:STANDARD
TZNAME:CST
DTSTART:20231105T020000
TZOFFSETFROM:-0500
TZOFFSETTO:-0600
RDATE:20241103T020000
RDATE:20251102T020000
END:STANDARD
BEGIN:DAYLIGHT
TZNAME:CDT
DTSTART:20240310T020000
TZOFFSETFROM:-0600
TZOFFSETTO:-0500
RDATE:20250309T020000
RDATE:20260308T020000
END:DAYLIGHT
END:VTIMEZONE
BEGIN:VEVENT
UID:d431ccc1-e4f7-42f4-b5e4-70e8650328f8
DTSTAMP:20260423T175957Z
DESCRIPTION:
DTSTART;TZID=America/Chicago:20240916T150000
DTEND;TZID=America/Chicago:20240916T154500
LOCATION:
SUMMARY:HS Chess Club
END:VEVENT
END:VCALENDAR
