BEGIN:VCALENDAR
VERSION:2.0
PRODID:-//tandcschool.org//NONSGML kigkonsult.se iCalcreator 2.30.10//
CALSCALE:GREGORIAN
METHOD:PUBLISH
UID:487dd066-17cc-46ad-b941-1d0a604ba7fd
X-WR-CALDESC:
X-WR-RELCALID:7fc438d96771fda0fac44cf5fab7b8fd
X-WR-TIMEZONE:America/Chicago
BEGIN:VTIMEZONE
TZID:America/Chicago
BEGIN:STANDARD
TZNAME:CST
DTSTART:20231105T020000
TZOFFSETFROM:-0500
TZOFFSETTO:-0600
RDATE:20241103T020000
RDATE:20251102T020000
END:STANDARD
BEGIN:DAYLIGHT
TZNAME:CDT
DTSTART:20240310T020000
TZOFFSETFROM:-0600
TZOFFSETTO:-0500
RDATE:20250309T020000
RDATE:20260308T020000
END:DAYLIGHT
END:VTIMEZONE
BEGIN:VEVENT
UID:b8073b80-3ea5-4346-9498-f8b582cd9e16
DTSTAMP:20260423T175639Z
DESCRIPTION:
DTSTART;TZID=America/Chicago:20240913T150000
DTEND;TZID=America/Chicago:20240913T154500
LOCATION:
SUMMARY:Gaming Club B
END:VEVENT
END:VCALENDAR
