BEGIN:VCALENDAR
VERSION:2.0
PRODID:-//tandcschool.org//NONSGML kigkonsult.se iCalcreator 2.30.10//
CALSCALE:GREGORIAN
METHOD:PUBLISH
UID:df025c8a-6b49-4c34-b29c-0f9660aed6f0
X-WR-CALDESC:
X-WR-RELCALID:8014a0b95d154f8fc0d396e5ce564f19
X-WR-TIMEZONE:America/Chicago
BEGIN:VTIMEZONE
TZID:America/Chicago
BEGIN:STANDARD
TZNAME:CST
DTSTART:20231105T020000
TZOFFSETFROM:-0500
TZOFFSETTO:-0600
RDATE:20241103T020000
RDATE:20251102T020000
END:STANDARD
BEGIN:DAYLIGHT
TZNAME:CDT
DTSTART:20240310T020000
TZOFFSETFROM:-0600
TZOFFSETTO:-0500
RDATE:20250309T020000
RDATE:20260308T020000
END:DAYLIGHT
END:VTIMEZONE
BEGIN:VEVENT
UID:704b61a9-82ac-411d-a683-57645dddcb23
DTSTAMP:20260423T175839Z
DESCRIPTION:
DTSTART;TZID=America/Chicago:20240912T153000
DTEND;TZID=America/Chicago:20240912T164500
LOCATION:
SUMMARY:LS Cooking
END:VEVENT
END:VCALENDAR
