BEGIN:VCALENDAR
VERSION:2.0
PRODID:-//tandcschool.org//NONSGML kigkonsult.se iCalcreator 2.30.10//
CALSCALE:GREGORIAN
METHOD:PUBLISH
UID:3d3975e7-9ee3-4ae2-a09a-46d158eeedef
X-WR-CALDESC:
X-WR-RELCALID:8e00bb7aa8c790be322dc3e5e5c57d7f
X-WR-TIMEZONE:America/Chicago
BEGIN:VTIMEZONE
TZID:America/Chicago
BEGIN:STANDARD
TZNAME:CST
DTSTART:20231105T020000
TZOFFSETFROM:-0500
TZOFFSETTO:-0600
RDATE:20241103T020000
RDATE:20251102T020000
END:STANDARD
BEGIN:DAYLIGHT
TZNAME:CDT
DTSTART:20240310T020000
TZOFFSETFROM:-0600
TZOFFSETTO:-0500
RDATE:20250309T020000
RDATE:20260308T020000
END:DAYLIGHT
END:VTIMEZONE
BEGIN:VEVENT
UID:b6ad17c3-7344-465d-aacc-3d608880353d
DTSTAMP:20260423T180350Z
DESCRIPTION:
DTSTART;TZID=America/Chicago:20240912T152000
DTEND;TZID=America/Chicago:20240912T160000
LOCATION:
SUMMARY:LS Running Club
END:VEVENT
END:VCALENDAR
