BEGIN:VCALENDAR
VERSION:2.0
PRODID:-//tandcschool.org//NONSGML kigkonsult.se iCalcreator 2.30.10//
CALSCALE:GREGORIAN
METHOD:PUBLISH
UID:8bf70b11-c88e-4060-a441-e8e72b574dfb
X-WR-CALDESC:
X-WR-RELCALID:575234238f399a10ac950123c2c9df27
X-WR-TIMEZONE:America/Chicago
BEGIN:VTIMEZONE
TZID:America/Chicago
BEGIN:STANDARD
TZNAME:CST
DTSTART:20231105T020000
TZOFFSETFROM:-0500
TZOFFSETTO:-0600
RDATE:20241103T020000
RDATE:20251102T020000
END:STANDARD
BEGIN:DAYLIGHT
TZNAME:CDT
DTSTART:20240310T020000
TZOFFSETFROM:-0600
TZOFFSETTO:-0500
RDATE:20250309T020000
RDATE:20260308T020000
END:DAYLIGHT
END:VTIMEZONE
BEGIN:VEVENT
UID:6249c32d-982e-4e10-a806-95fdb7e06f46
DTSTAMP:20260423T175946Z
DESCRIPTION:
DTSTART;TZID=America/Chicago:20240912T151500
DTEND;TZID=America/Chicago:20240912T160000
LOCATION:
SUMMARY:Band
END:VEVENT
END:VCALENDAR
