BEGIN:VCALENDAR
VERSION:2.0
PRODID:-//tandcschool.org//NONSGML kigkonsult.se iCalcreator 2.30.10//
CALSCALE:GREGORIAN
METHOD:PUBLISH
UID:33376a04-2401-4569-9604-6813b3e83685
X-WR-CALDESC:
X-WR-RELCALID:ced295ebbcccf26e1806d4a541940c4e
X-WR-TIMEZONE:America/Chicago
BEGIN:VTIMEZONE
TZID:America/Chicago
BEGIN:STANDARD
TZNAME:CST
DTSTART:20231105T020000
TZOFFSETFROM:-0500
TZOFFSETTO:-0600
RDATE:20241103T020000
RDATE:20251102T020000
END:STANDARD
BEGIN:DAYLIGHT
TZNAME:CDT
DTSTART:20240310T020000
TZOFFSETFROM:-0600
TZOFFSETTO:-0500
RDATE:20250309T020000
RDATE:20260308T020000
END:DAYLIGHT
END:VTIMEZONE
BEGIN:VEVENT
UID:f4720b39-5ebf-4de6-a2da-5c4b049d8f68
DTSTAMP:20260423T180514Z
DESCRIPTION:
DTSTART;TZID=America/Chicago:20240911T152000
DTEND;TZID=America/Chicago:20240911T160000
LOCATION:
SUMMARY:Production Club
END:VEVENT
END:VCALENDAR
