BEGIN:VCALENDAR
VERSION:2.0
PRODID:-//tandcschool.org//NONSGML kigkonsult.se iCalcreator 2.30.10//
CALSCALE:GREGORIAN
METHOD:PUBLISH
UID:dd1b5d5e-f1b5-458e-a890-0d13213768f5
X-WR-CALDESC:
X-WR-RELCALID:e42bacdabc0685023ae31a0de292d35c
X-WR-TIMEZONE:America/Chicago
BEGIN:VTIMEZONE
TZID:America/Chicago
BEGIN:STANDARD
TZNAME:CST
DTSTART:20231105T020000
TZOFFSETFROM:-0500
TZOFFSETTO:-0600
RDATE:20241103T020000
RDATE:20251102T020000
END:STANDARD
BEGIN:DAYLIGHT
TZNAME:CDT
DTSTART:20240310T020000
TZOFFSETFROM:-0600
TZOFFSETTO:-0500
RDATE:20250309T020000
RDATE:20260308T020000
END:DAYLIGHT
END:VTIMEZONE
BEGIN:VEVENT
UID:d4988e0c-9c78-4e02-bd75-ca6e8a9a2b4f
DTSTAMP:20260423T175951Z
DESCRIPTION:
DTSTART;TZID=America/Chicago:20240910T153000
DTEND;TZID=America/Chicago:20240910T164500
LOCATION:
SUMMARY:US Cooking
END:VEVENT
END:VCALENDAR
