BEGIN:VCALENDAR
VERSION:2.0
PRODID:-//tandcschool.org//NONSGML kigkonsult.se iCalcreator 2.30.10//
CALSCALE:GREGORIAN
METHOD:PUBLISH
UID:4310475a-6404-4f08-a3a7-e854e6dbd157
X-WR-CALDESC:
X-WR-RELCALID:ac4ff176d0f29fb7017f2190269a3643
X-WR-TIMEZONE:America/Chicago
BEGIN:VTIMEZONE
TZID:America/Chicago
BEGIN:STANDARD
TZNAME:CST
DTSTART:20231105T020000
TZOFFSETFROM:-0500
TZOFFSETTO:-0600
RDATE:20241103T020000
RDATE:20251102T020000
END:STANDARD
BEGIN:DAYLIGHT
TZNAME:CDT
DTSTART:20240310T020000
TZOFFSETFROM:-0600
TZOFFSETTO:-0500
RDATE:20250309T020000
RDATE:20260308T020000
END:DAYLIGHT
END:VTIMEZONE
BEGIN:VEVENT
UID:569dfa5e-fffb-495e-979d-070f9bfd8ac9
DTSTAMP:20260423T175945Z
DESCRIPTION:
DTSTART;TZID=America/Chicago:20240910T150000
DTEND;TZID=America/Chicago:20240910T154500
LOCATION:
SUMMARY:HS Running Club
END:VEVENT
END:VCALENDAR
