BEGIN:VCALENDAR
VERSION:2.0
PRODID:-//tandcschool.org//NONSGML kigkonsult.se iCalcreator 2.30.10//
CALSCALE:GREGORIAN
METHOD:PUBLISH
UID:d59fed16-926c-4e57-a84d-9b327110b8dc
X-WR-CALDESC:
X-WR-RELCALID:8d7d6cbfccfd696d2b0b3d9c90613115
X-WR-TIMEZONE:America/Chicago
BEGIN:VTIMEZONE
TZID:America/Chicago
BEGIN:STANDARD
TZNAME:CST
DTSTART:20231105T020000
TZOFFSETFROM:-0500
TZOFFSETTO:-0600
RDATE:20241103T020000
RDATE:20251102T020000
END:STANDARD
BEGIN:DAYLIGHT
TZNAME:CDT
DTSTART:20240310T020000
TZOFFSETFROM:-0600
TZOFFSETTO:-0500
RDATE:20250309T020000
RDATE:20260308T020000
END:DAYLIGHT
END:VTIMEZONE
BEGIN:VEVENT
UID:e5d7ad66-a857-46a8-af53-fea1fe56a589
DTSTAMP:20260423T175951Z
DESCRIPTION:
DTSTART;TZID=America/Chicago:20240910T150000
DTEND;TZID=America/Chicago:20240910T154500
LOCATION:
SUMMARY:HS Lego Club
END:VEVENT
END:VCALENDAR
